BEGIN:VCALENDAR
VERSION:2.0
PRODID:-//Intand Corporation//Tandem//EN
METHOD:PUBLISH
BEGIN:VEVENT
DTSTAMP:20260420T194818Z
DTSTART:20191008T222000Z
DTEND:20191009T023500Z
TRANSP:TRANSPARENT
PRIORITY:0
SUMMARY:Missoula Children's Theater - LWES
LOCATION:LWES Stage Music Room\, LWES Commons\, LWES Parking Lot\,  LWES G
 ym
DESCRIPTION:Groups:\nLWES PTSA\n\nSchools:\nLake Wilderness Elementary\n\n
 Locations:\nLWES Stage Music Room\nLWES Commons\nLWES Parking Lot\n LWES G
 ym\n\n
URL;VALUE=URI:http://tahoma.tandem.co/index.php?type=view&action=event&id=
 281172
CREATED:20190703T192238Z
LAST-MODIFIED:20190703T192247Z
UID:facility_rental-281172-tahoma@intand.com
END:VEVENT
END:VCALENDAR
